BEGIN:VCALENDAR
VERSION:2.0
PRODID:-//Doonbeg National School - ECPv6.15.20//NONSGML v1.0//EN
CALSCALE:GREGORIAN
METHOD:PUBLISH
X-WR-CALNAME:Doonbeg National School
X-ORIGINAL-URL:https://doonbegns.ie
X-WR-CALDESC:Events for Doonbeg National School
REFRESH-INTERVAL;VALUE=DURATION:PT1H
X-Robots-Tag:noindex
X-PUBLISHED-TTL:PT1H
BEGIN:VTIMEZONE
TZID:UTC
BEGIN:STANDARD
TZOFFSETFROM:+0000
TZOFFSETTO:+0000
TZNAME:UTC
DTSTART:20160101T000000
END:STANDARD
END:VTIMEZONE
BEGIN:VEVENT
DTSTART;TZID=UTC:20170925T113000
DTEND;TZID=UTC:20170925T133000
DTSTAMP:20260424T161146
CREATED:20170918T212227Z
LAST-MODIFIED:20170918T212227Z
UID:841-1506339000-1506346200@doonbegns.ie
SUMMARY:Athletics - Cross Country Event
DESCRIPTION:West Clare Schools Cross Country – Cooraclare – 11:30 a.m.
URL:https://doonbegns.ie/event/athletics-cross-country-event/
END:VEVENT
END:VCALENDAR