BEGIN:VCALENDAR
VERSION:2.0
PRODID:-//Doonbeg National School - ECPv6.15.20//NONSGML v1.0//EN
CALSCALE:GREGORIAN
METHOD:PUBLISH
X-ORIGINAL-URL:https://doonbegns.ie
X-WR-CALDESC:Events for Doonbeg National School
REFRESH-INTERVAL;VALUE=DURATION:PT1H
X-Robots-Tag:noindex
X-PUBLISHED-TTL:PT1H
BEGIN:VTIMEZONE
TZID:UTC
BEGIN:STANDARD
TZOFFSETFROM:+0000
TZOFFSETTO:+0000
TZNAME:UTC
DTSTART:20160101T000000
END:STANDARD
END:VTIMEZONE
BEGIN:VTIMEZONE
TZID:Africa/Abidjan
BEGIN:STANDARD
TZOFFSETFROM:+0000
TZOFFSETTO:+0000
TZNAME:GMT
DTSTART:20160101T000000
END:STANDARD
END:VTIMEZONE
BEGIN:VEVENT
DTSTART;TZID=UTC:20170410T092000
DTEND;TZID=UTC:20170421T150000
DTSTAMP:20260425T144612
CREATED:20170405T192155Z
LAST-MODIFIED:20170405T192402Z
UID:729-1491816000-1492786800@doonbegns.ie
SUMMARY:Easter Holidays
DESCRIPTION:The School will be closed from Monday\, 10th April to Friday\, 21st April 2017.
URL:https://doonbegns.ie/event/easter-holidays/
END:VEVENT
BEGIN:VEVENT
DTSTART;TZID=UTC:20170501T080000
DTEND;TZID=UTC:20170501T170000
DTSTAMP:20260425T144612
CREATED:20170405T192955Z
LAST-MODIFIED:20170405T192955Z
UID:732-1493625600-1493658000@doonbegns.ie
SUMMARY:Public Holiday
DESCRIPTION:Bank Holiday
URL:https://doonbegns.ie/event/public-holiday/
END:VEVENT
BEGIN:VEVENT
DTSTART;TZID=Africa/Abidjan:20170504T080000
DTEND;TZID=Africa/Abidjan:20170504T170000
DTSTAMP:20260425T144612
CREATED:20170405T193606Z
LAST-MODIFIED:20170405T194244Z
UID:736-1493884800-1493917200@doonbegns.ie
SUMMARY:Swimming Classes - Middle & Senior Room
DESCRIPTION:Swimming Classes commence for the Middle and Senior Room for 6 weeks.
URL:https://doonbegns.ie/event/swimming-classes-senior-room/
END:VEVENT
BEGIN:VEVENT
DTSTART;TZID=UTC:20170505T100000
DTEND;TZID=UTC:20170505T110000
DTSTAMP:20260425T144612
CREATED:20170405T194103Z
LAST-MODIFIED:20170405T194143Z
UID:738-1493978400-1493982000@doonbegns.ie
SUMMARY:Swimming Classes - Junior Room
DESCRIPTION:Swimming Classes commence for the Junior Room for 6 weeks.
URL:https://doonbegns.ie/event/swimming-classes-junior-room/
END:VEVENT
BEGIN:VEVENT
DTSTART;TZID=UTC:20170605T080000
DTEND;TZID=UTC:20170605T170000
DTSTAMP:20260425T144612
CREATED:20170405T193144Z
LAST-MODIFIED:20170405T193152Z
UID:734-1496649600-1496682000@doonbegns.ie
SUMMARY:Public Holiday
DESCRIPTION:Bank Holiday
URL:https://doonbegns.ie/event/public-holiday-2/
END:VEVENT
BEGIN:VEVENT
DTSTART;TZID=UTC:20170901T093000
DTEND;TZID=UTC:20170901T150000
DTSTAMP:20260425T144612
CREATED:20170918T213204Z
LAST-MODIFIED:20170918T213204Z
UID:848-1504258200-1504278000@doonbegns.ie
SUMMARY:New School Year
DESCRIPTION:First day of the new school year 2017 – 2018.
URL:https://doonbegns.ie/event/new-school-year/
END:VEVENT
BEGIN:VEVENT
DTSTART;TZID=UTC:20170915T080000
DTEND;TZID=UTC:20170915T170000
DTSTAMP:20260425T144612
CREATED:20170918T213009Z
LAST-MODIFIED:20170918T213009Z
UID:846-1505462400-1505494800@doonbegns.ie
SUMMARY:N.U.I. Galway Youth Academy
DESCRIPTION:Closing date for N.U.I. Galway’s Youth Academy for 2017/2018.
URL:https://doonbegns.ie/event/n-u-i-galway-youth-academy/
END:VEVENT
BEGIN:VEVENT
DTSTART;TZID=UTC:20170915T110000
DTEND;TZID=UTC:20170915T123000
DTSTAMP:20260425T144612
CREATED:20170918T212601Z
LAST-MODIFIED:20170918T212818Z
UID:843-1505473200-1505478600@doonbegns.ie
SUMMARY:Gaelic Football Coaching
DESCRIPTION:Gaelic Football Coaching – John Enright – Every Friday for 6 weeks.
URL:https://doonbegns.ie/event/gaelic-football-coaching/
END:VEVENT
BEGIN:VEVENT
DTSTART;TZID=UTC:20170925T113000
DTEND;TZID=UTC:20170925T133000
DTSTAMP:20260425T144612
CREATED:20170918T212227Z
LAST-MODIFIED:20170918T212227Z
UID:841-1506339000-1506346200@doonbegns.ie
SUMMARY:Athletics - Cross Country Event
DESCRIPTION:West Clare Schools Cross Country – Cooraclare – 11:30 a.m.
URL:https://doonbegns.ie/event/athletics-cross-country-event/
END:VEVENT
BEGIN:VEVENT
DTSTART;TZID=UTC:20171027T090000
DTEND;TZID=UTC:20171027T150000
DTSTAMP:20260425T144612
CREATED:20171016T200733Z
LAST-MODIFIED:20171016T201513Z
UID:887-1509094800-1509116400@doonbegns.ie
SUMMARY:School Closure - Mid Term Break
DESCRIPTION:Last day of school in first term.
URL:https://doonbegns.ie/event/school-closure-mid-term-break/
END:VEVENT
BEGIN:VEVENT
DTSTART;TZID=UTC:20190226T100000
DTEND;TZID=UTC:20190226T110000
DTSTAMP:20260425T144612
CREATED:20190310T202457Z
LAST-MODIFIED:20190310T202457Z
UID:2120-1551175200-1551178800@doonbegns.ie
SUMMARY:Swimming Classes
DESCRIPTION:Swimming Classes – 3rd to 6th
URL:https://doonbegns.ie/event/swimming-classes/
END:VEVENT
BEGIN:VEVENT
DTSTART;TZID=UTC:20190316T153000
DTEND;TZID=UTC:20190316T163000
DTSTAMP:20260425T144612
CREATED:20190310T202220Z
LAST-MODIFIED:20190310T202220Z
UID:2117-1552750200-1552753800@doonbegns.ie
SUMMARY:St. Patrick's Day Parade
DESCRIPTION:St. Patrick’s Day Parade
URL:https://doonbegns.ie/event/st-patricks-day-parade/
END:VEVENT
END:VCALENDAR