BEGIN:VCALENDAR
VERSION:2.0
PRODID:-//Doonbeg National School - ECPv6.15.20//NONSGML v1.0//EN
CALSCALE:GREGORIAN
METHOD:PUBLISH
X-WR-CALNAME:Doonbeg National School
X-ORIGINAL-URL:https://doonbegns.ie
X-WR-CALDESC:Events for Doonbeg National School
REFRESH-INTERVAL;VALUE=DURATION:PT1H
X-Robots-Tag:noindex
X-PUBLISHED-TTL:PT1H
BEGIN:VTIMEZONE
TZID:UTC
BEGIN:STANDARD
TZOFFSETFROM:+0000
TZOFFSETTO:+0000
TZNAME:UTC
DTSTART:20160101T000000
END:STANDARD
END:VTIMEZONE
BEGIN:VEVENT
DTSTART;TZID=UTC:20170901T093000
DTEND;TZID=UTC:20170901T150000
DTSTAMP:20260424T161202
CREATED:20170918T213204Z
LAST-MODIFIED:20170918T213204Z
UID:848-1504258200-1504278000@doonbegns.ie
SUMMARY:New School Year
DESCRIPTION:First day of the new school year 2017 – 2018.
URL:https://doonbegns.ie/event/new-school-year/
END:VEVENT
BEGIN:VEVENT
DTSTART;TZID=UTC:20170915T080000
DTEND;TZID=UTC:20170915T170000
DTSTAMP:20260424T161202
CREATED:20170918T213009Z
LAST-MODIFIED:20170918T213009Z
UID:846-1505462400-1505494800@doonbegns.ie
SUMMARY:N.U.I. Galway Youth Academy
DESCRIPTION:Closing date for N.U.I. Galway’s Youth Academy for 2017/2018.
URL:https://doonbegns.ie/event/n-u-i-galway-youth-academy/
END:VEVENT
BEGIN:VEVENT
DTSTART;TZID=UTC:20170915T110000
DTEND;TZID=UTC:20170915T123000
DTSTAMP:20260424T161202
CREATED:20170918T212601Z
LAST-MODIFIED:20170918T212818Z
UID:843-1505473200-1505478600@doonbegns.ie
SUMMARY:Gaelic Football Coaching
DESCRIPTION:Gaelic Football Coaching – John Enright – Every Friday for 6 weeks.
URL:https://doonbegns.ie/event/gaelic-football-coaching/
END:VEVENT
BEGIN:VEVENT
DTSTART;TZID=UTC:20170925T113000
DTEND;TZID=UTC:20170925T133000
DTSTAMP:20260424T161202
CREATED:20170918T212227Z
LAST-MODIFIED:20170918T212227Z
UID:841-1506339000-1506346200@doonbegns.ie
SUMMARY:Athletics - Cross Country Event
DESCRIPTION:West Clare Schools Cross Country – Cooraclare – 11:30 a.m.
URL:https://doonbegns.ie/event/athletics-cross-country-event/
END:VEVENT
END:VCALENDAR